{"text_format":"1","workbook":"xlsx","n_sheets":3,"sheets":["男子申込書","女子申込書","プログラム用"],"not_rendered":{"charts":0,"images":0,"macros":1,"external_links":0,"defined_names":0,"comments":0,"pivot_tables":0},"unopened":[],"bounds":{"document_bytes":16777216,"sheet_cells":100000,"rows_first":2000,"rows_last":500,"rows_between":2000,"halvings":0,"cell_chars":16384,"cell_head_chars":4096},"cells_cut":0,"cells_raw":0,"read":"whole","date_system":"1900"}

{"sheet":"男子申込書","index":0,"n_rows":36,"n_cols":16,"rows_kept":36,"cut":false,"hidden":false,"merged":[[4,13,4,15],[30,2,30,4],[3,13,3,15],[31,1,31,4],[31,7,31,8],[15,2,15,5],[15,6,15,9],[16,2,16,5],[16,6,16,9],[17,2,17,5],[17,6,17,9],[12,2,12,5],[12,6,12,9],[13,2,13,5],[13,6,13,9],[14,2,14,5],[32,1,32,10],[18,2,18,5],[18,6,18,9],[25,1,25,10],[28,1,28,10],[29,1,29,10],[20,1,21,10],[22,1,22,5],[22,6,22,10],[23,1,23,5],[23,6,23,10],[14,6,14,9],[8,2,8,5],[8,7,8,8],[10,2,10,5],[10,6,10,9],[11,2,11,5],[11,6,11,9],[9,2,9,5],[9,6,9,9],[5,1,5,2],[5,3,5,5],[5,6,5,7],[5,8,5,10],[6,1,6,2],[6,3,6,5],[6,6,6,7],[6,8,6,10],[1,1,1,10],[3,1,3,2],[3,3,3,7],[3,9,3,10],[4,3,4,10],[4,1,4,2]]}
[]
[null,"令和３年度宮城県中学校駅伝競走大会申込書（男子）"]
[]
[null,"地区名",null,null,null,null,null,null,"地区順位",null,null,null,null,"学校番号　一覧表"]
[null,"学校名",null,null,null,null,null,null,null,null,null,null,null,"男子"]
[null,"学校番号",null,null,null,null,"監督名",null,null,null,null,null,null,"学校\n番号","地区名","地区\n順位"]
[null,"引率責任者氏名",null,null,null,null,"連絡先",null,null,null,null,null,null,1,"白石・刈田","1位"]
[null,null,null,null,null,null,null,null,null,null,null,null,null,2,"角田・伊具","1位"]
[null,null,"選　　手　　名",null,null,null,null,"ふりがな",null,null,"学年",null,null,3,"柴田郡","1位"]
[null,null,"例）宮城　太郎",null,null,null,"みやぎ　たろう",null,null,null,3,null,null,4,"亘理郡","1位"]
[null,1,null,null,null,null,null,null,null,null,null,null,null,5,"岩沼市","1位"]
[null,2,null,null,null,null,null,null,null,null,null,null,null,6,"名取市","1位"]
[null,3,null,null,null,null,null,null,null,null,null,null,null,7,"仙台市","1位"]
[null,4,null,null,null,null,null,null,null,null,null,null,null,8,"仙台市","2位"]
[null,5,null,null,null,null,null,null,null,null,null,null,null,9,"仙台市","3位"]
[null,6,null,null,null,null,null,null,null,null,null,null,null,10,"仙台市","4位"]
[null,7,null,null,null,null,null,null,null,null,null,null,null,11,"仙台市","5位"]
[null,8,null,null,null,null,null,null,null,null,null,null,null,12,"仙台市","6位"]
[null,9,null,null,null,null,null,null,null,null,null,null,null,13,"仙台市","7位"]
[null,null,null,null,null,null,null,null,null,null,null,null,null,14,"仙台市","8位"]
[null,"   本申込書は，コロナ対策の来場者一覧表を兼ねますので，選手，監督以外に来場する方（２名まで）をご記入ください。",null,null,null,null,null,null,null,null,null,null,null,15,"仙台市","9位"]
[null,null,null,null,null,null,null,null,null,null,null,null,null,16,"塩竃市","1位"]
[null,"例）　　引率責任者　栗原　一郎",null,null,null,null,"校長　登米　花子",null,null,null,null,null,null,17,"多賀城市","1位"]
[null,null,null,null,null,null,null,null,null,null,null,null,null,18,"宮城郡","1位"]
[null,null,null,null,null,null,null,null,null,null,null,null,null,19,"富谷・黒川","1位"]
[null,"※学校受付及び選手変更は，当日の １２：１０ までに終了して下さい。",null,null,null,null,null,null,null,null,null,null,null,20,"石巻地区","1位"]
[null,null,null,null,null,null,null,null,null,null,null,null,null,21,"石巻地区","2位"]
[null,null,null,null,null,null,null,null,null,null,null,null,null,22,"石巻地区","3位"]
[null,"　上記の者は，本校在学中で，学校医による健康診断を受けており，標記大会に参加することを承認します。",null,null,null,null,null,null,null,null,null,null,null,23,"遠田郡","1位"]
[null,"　また，大会要項に記載の内容を確認し，本人及び保護者の同意を得ています。",null,null,null,null,null,null,null,null,null,null,null,24,"大崎市","1位"]
[null,null,"令和３年９月　　日",null,null,null,null,null,null,null,null,null,null,25,"大崎市","2位"]
[null,null,null,null,null,null,"校長",null,null,"印",null,null,null,26,"加美郡","1位"]
[null,null,null,null,null,null,null,null,null,null,null,null,null,27,"栗原市","1位"]
[null,null,null,null,null,null,null,null,null,null,null,null,null,28,"登米市","1位"]
[null,null,null,null,null,null,null,null,null,null,null,null,null,29,"気仙沼・本吉","1位"]
[null,null,null,null,null,null,null,null,null,null,null,null,null,30,"気仙沼・本吉","2位"]

{"sheet":"女子申込書","index":1,"n_rows":35,"n_cols":16,"rows_kept":35,"cut":false,"hidden":false,"merged":[[3,13,3,15],[29,2,29,4],[27,1,27,10],[28,1,28,10],[15,2,15,5],[15,6,15,9],[16,2,16,5],[16,6,16,9],[17,2,17,5],[17,6,17,9],[12,2,12,5],[12,6,12,9],[13,2,13,5],[13,6,13,9],[14,2,14,5],[9,2,9,5],[30,1,30,4],[30,7,30,8],[31,1,31,10],[24,1,24,10],[4,13,4,15],[9,6,9,9],[14,6,14,9],[8,2,8,5],[8,7,8,8],[10,2,10,5],[10,6,10,9],[11,2,11,5],[11,6,11,9],[5,1,5,2],[5,3,5,5],[5,6,5,7],[5,8,5,10],[6,1,6,2],[6,3,6,5],[6,6,6,7],[6,8,6,10],[1,1,1,10],[3,1,3,2],[3,3,3,7],[3,9,3,10],[4,3,4,10],[4,1,4,2],[19,1,20,10],[21,1,21,5],[21,6,21,10],[22,1,22,5],[22,6,22,10]]}
[]
[null,"令和３年度宮城県中学校駅伝競走大会申込書（女子）"]
[]
[null,"地区名",null,null,null,null,null,null,"地区順位",null,null,null,null,"学校番号　一覧表"]
[null,"学校名",null,null,null,null,null,null,null,null,null,null,null,"女子"]
[null,"学校番号",null,null,null,null,"監督名",null,null,null,null,null,null,"学校\n番号","地区名","地区\n順位"]
[null,"引率責任者氏名",null,null,null,null,"連絡先",null,null,null,null,null,null,1,"白石・刈田","1位"]
[null,null,null,null,null,null,null,null,null,null,null,null,null,2,"角田・伊具","1位"]
[null,null,"選　　手　　名",null,null,null,null,"ふりがな",null,null,"学年",null,null,3,"柴田郡","1位"]
[null,null,"例）宮城　花子",null,null,null,"みやぎ　はなこ",null,null,null,3,null,null,4,"亘理郡","1位"]
[null,1,null,null,null,null,null,null,null,null,null,null,null,5,"岩沼市","1位"]
[null,2,null,null,null,null,null,null,null,null,null,null,null,6,"名取市","1位"]
[null,3,null,null,null,null,null,null,null,null,null,null,null,7,"仙台市","1位"]
[null,4,null,null,null,null,null,null,null,null,null,null,null,8,"仙台市","2位"]
[null,5,null,null,null,null,null,null,null,null,null,null,null,9,"仙台市","3位"]
[null,6,null,null,null,null,null,null,null,null,null,null,null,10,"仙台市","4位"]
[null,7,null,null,null,null,null,null,null,null,null,null,null,11,"仙台市","5位"]
[null,8,null,null,null,null,null,null,null,null,null,null,null,12,"仙台市","6位"]
[null,null,null,null,null,null,null,null,null,null,null,null,null,13,"仙台市","7位"]
[null,"   本申込書は，コロナ対策の来場者一覧表を兼ねますので，選手，監督以外に来場する方（２名まで）をご記入ください。",null,null,null,null,null,null,null,null,null,null,null,14,"仙台市","8位"]
[null,null,null,null,null,null,null,null,null,null,null,null,null,15,"塩竃市","1位"]
[null,"例）　　引率責任者　栗原　一郎",null,null,null,null,"校長　登米　花子",null,null,null,null,null,null,16,"多賀城市","1位"]
[null,null,null,null,null,null,null,null,null,null,null,null,null,17,"宮城郡","1位"]
[null,null,null,null,null,null,null,null,null,null,null,null,null,18,"富谷・黒川","1位"]
[null,"※学校受付及び選手変更は，当日の ７：３０ までに終了して下さい。",null,null,null,null,null,null,null,null,null,null,null,19,"石巻地区","1位"]
[null,null,null,null,null,null,null,null,null,null,null,null,null,20,"石巻地区","2位"]
[null,null,null,null,null,null,null,null,null,null,null,null,null,21,"石巻地区","3位"]
[null,"　上記の者は，本校在学中で，学校医による健康診断を受けており，標記大会に参加することを承認します。",null,null,null,null,null,null,null,null,null,null,null,22,"遠田郡","1位"]
[null,"　また，大会要項に記載の内容を確認し，本人及び保護者の同意を得ています。",null,null,null,null,null,null,null,null,null,null,null,23,"大崎市","1位"]
[null,null,"令和３年９月　　日",null,null,null,null,null,null,null,null,null,null,24,"大崎市","2位"]
[null,null,null,null,null,null,"校長",null,null,"印",null,null,null,25,"加美郡","1位"]
[null,null,null,null,null,null,null,null,null,null,null,null,null,26,"栗原市","1位"]
[null,null,null,null,null,null,null,null,null,null,null,null,null,27,"登米市","1位"]
[null,null,null,null,null,null,null,null,null,null,null,null,null,28,"気仙沼・本吉","1位"]
[null,null,null,null,null,null,null,null,null,null,null,null,null,29,"気仙沼・本吉","2位"]

{"sheet":"プログラム用","index":2,"n_rows":24,"n_cols":38,"rows_kept":24,"cut":false,"hidden":true,"merged":[[1,13,1,15],[1,5,1,7],[2,6,2,7],[3,5,3,7],[4,6,4,7],[1,9,1,11],[18,5,19,5],[18,7,19,7],[20,5,21,5],[20,7,21,7],[22,5,23,5],[22,7,23,7],[12,5,13,5],[12,7,13,7],[14,5,15,5],[14,7,15,7],[16,5,17,5],[16,7,17,7],[6,5,7,5],[6,7,7,7],[8,5,9,5],[8,7,9,7],[10,5,11,5],[10,7,11,7],[3,1,3,3],[2,2,2,3],[4,2,4,3],[1,1,1,3],[16,1,17,1],[14,1,15,1],[18,1,19,1],[20,1,21,1],[22,1,23,1],[6,3,7,3],[8,3,9,3],[10,3,11,3],[14,3,15,3],[18,3,19,3],[22,3,23,3],[20,3,21,3],[16,3,17,3],[12,3,13,3],[6,1,7,1],[8,1,9,1],[10,1,11,1],[12,1,13,1],[2,17,4,17],[6,17,8,17],[2,19,3,19],[2,20,2,21],[2,22,2,23],[2,18,3,18],[6,18,7,18],[6,19,7,19],[2,24,2,25],[2,26,2,27],[2,30,2,31],[2,32,3,37],[3,20,3,21],[3,22,3,23],[3,24,3,25],[3,26,3,27],[3,28,3,29],[3,30,3,31],[2,28,2,29],[6,28,6,29],[6,30,7,35],[7,20,7,21],[7,22,7,23],[7,24,7,25],[7,26,7,27],[7,28,7,29],[6,20,6,21],[6,22,6,23],[6,24,6,25],[6,26,6,27]]}
[null,"プログラム用選手一覧",null,null,null,null,null,null,null,"成績入力用選手一覧",null,null,null,null,null,null,null,"プログラム用選手一覧"]
[null,"選手一覧（男子）",null,null,null,"選手一覧（女子）",null,null,null,"選手一覧（男子）",null,null,null,"選手一覧（女子）"]
[null,{"$f":"IF(#REF!=\"\",\"\",#REF!)","v":{"$error":"#REF!"}},{"$f":"IF(#REF!=\"\",\"\",#REF!&#REF!&\"中学校\")","v":{"$error":"#REF!"}},null,null,{"$f":"IF(#REF!=\"\",\"\",#REF!)","v":{"$error":"#REF!"}},{"$f":"IF(#REF!=\"\",\"\",#REF!&#REF!&\"中学校\")","v":{"$error":"#REF!"}},null,null,"学校名",{"$f":"IF(#REF!=\"\",\"\",#REF!&\"中\")","v":{"$error":"#REF!"}},null,null,"学校名",{"$f":"IF(#REF!=\"\",\"\",#REF!&\"中\")","v":{"$error":"#REF!"}},null,null,"男子","学校名","監督名","第 １ 区",null,"第 ２ 区",null,"第 ３ 区",null,"第 ４ 区",null,"第 ５ 区",null,"第 ６ 区",null,"補欠"]
[null,"写真欄",null,null,null,"写真欄",null,null,null,"監督名",{"$f":"IF(#REF!=\"\",\"\",#REF!)","v":{"$error":"#REF!"}},null,null,"監督名",{"$f":"IF(#REF!=\"\",\"\",#REF!)","v":{"$error":"#REF!"}},null,null,null,null,null,"( 3.0 km )",null,"( 2.9 km )",null,"( 3.2 km)",null,"( 3.0 km )",null,"( 2.9 km )",null,"( 3.0 km )"]
[null,"監督",{"$f":"IF(#REF!=\"\",\"\",#REF!)","v":{"$error":"#REF!"}},null,null,"監督",{"$f":"IF(#REF!=\"\",\"\",#REF!)","v":{"$error":"#REF!"}},null,null,"区間","選手名","学年",null,"区間","選手名","学年",null,null,{"$f":"IF(#REF!=\"\",\"\",#REF!)","v":{"$error":"#REF!"}},{"$f":"IF(#REF!=\"\",\"\",#REF!)","v":{"$error":"#REF!"}},{"$f":"IF(#REF!=\"\",\"\",#REF!)","v":{"$error":"#REF!"}},{"$f":"IF(#REF!=\"\",\"\",#REF!)","v":{"$error":"#REF!"}},{"$f":"IF(#REF!=\"\",\"\",#REF!)","v":{"$error":"#REF!"}},{"$f":"IF(#REF!=\"\",\"\",#REF!)","v":{"$error":"#REF!"}},{"$f":"IF(#REF!=\"\",\"\",#REF!)","v":{"$error":"#REF!"}},{"$f":"IF(#REF!=\"\",\"\",#REF!)","v":{"$error":"#REF!"}},{"$f":"IF(#REF!=\"\",\"\",#REF!)","v":{"$error":"#REF!"}},{"$f":"IF(#REF!=\"\",\"\",#REF!)","v":{"$error":"#REF!"}},{"$f":"IF(#REF!=\"\",\"\",#REF!)","v":{"$error":"#REF!"}},{"$f":"IF(#REF!=\"\",\"\",#REF!)","v":{"$error":"#REF!"}},{"$f":"IF(#REF!=\"\",\"\",#REF!)","v":{"$error":"#REF!"}},{"$f":"IF(#REF!=\"\",\"\",#REF!)","v":{"$error":"#REF!"}},{"$f":"IF(#REF!=\"\",\"\",#REF!)","v":{"$error":"#REF!"}},{"$f":"IF(#REF!=\"\",\"\",#REF!)","v":{"$error":"#REF!"}},{"$f":"IF(#REF!=\"\",\"\",#REF!)","v":{"$error":"#REF!"}},{"$f":"IF(#REF!=\"\",\"\",#REF!)","v":{"$error":"#REF!"}},{"$f":"IF(#REF!=\"\",\"\",#REF!)","v":{"$error":"#REF!"}},{"$f":"IF(#REF!=\"\",\"\",#REF!)","v":{"$error":"#REF!"}}]
[null,"No.","選　手　名","学年",null,"No.","選　手　名","学年",null,1,{"$f":"IF(#REF!=\"\",\"\",#REF!)","v":{"$error":"#REF!"}},{"$f":"IF(#REF!=\"\",\"\",#REF!)","v":{"$error":"#REF!"}},null,1,{"$f":"IF(#REF!=\"\",\"\",#REF!)","v":{"$error":"#REF!"}},{"$f":"IF(#REF!=\"\",\"\",#REF!)","v":{"$error":"#REF!"}}]
[null,1,{"$f":"IF(#REF!=\"\",\"\",#REF!)","v":{"$error":"#REF!"}},{"$f":"IF(#REF!=\"\",\"\",#REF!)","v":{"$error":"#REF!"}},null,1,{"$f":"IF(#REF!=\"\",\"\",#REF!)","v":{"$error":"#REF!"}},{"$f":"IF(#REF!=\"\",\"\",#REF!)","v":{"$error":"#REF!"}},null,2,{"$f":"IF(#REF!=\"\",\"\",#REF!)","v":{"$error":"#REF!"}},{"$f":"IF(#REF!=\"\",\"\",#REF!)","v":{"$error":"#REF!"}},null,2,{"$f":"IF(#REF!=\"\",\"\",#REF!)","v":{"$error":"#REF!"}},{"$f":"IF(#REF!=\"\",\"\",#REF!)","v":{"$error":"#REF!"}},null,"女子","学校名","監督名","第 １ 区",null,"第 ２ 区",null,"第 ３ 区",null,"第 ４ 区",null,"第 ５ 区",null,"補欠"]
[null,null,{"$f":"IF(#REF!=\"\",\"\",#REF!)","v":{"$error":"#REF!"}},null,null,null,{"$f":"IF(#REF!=\"\",\"\",#REF!)","v":{"$error":"#REF!"}},null,null,3,{"$f":"IF(#REF!=\"\",\"\",#REF!)","v":{"$error":"#REF!"}},{"$f":"IF(#REF!=\"\",\"\",#REF!)","v":{"$error":"#REF!"}},null,3,{"$f":"IF(#REF!=\"\",\"\",#REF!)","v":{"$error":"#REF!"}},{"$f":"IF(#REF!=\"\",\"\",#REF!)","v":{"$error":"#REF!"}},null,null,null,null,"( 3.0 km )",null,"( 2.0 km )",null,"( 2.0 km )",null,"( 2.0 km )",null,"( 3.0 km )"]
[null,2,{"$f":"IF(#REF!=\"\",\"\",#REF!)","v":{"$error":"#REF!"}},{"$f":"IF(#REF!=\"\",\"\",#REF!)","v":{"$error":"#REF!"}},null,2,{"$f":"IF(#REF!=\"\",\"\",#REF!)","v":{"$error":"#REF!"}},{"$f":"IF(#REF!=\"\",\"\",#REF!)","v":{"$error":"#REF!"}},null,4,{"$f":"IF(#REF!=\"\",\"\",#REF!)","v":{"$error":"#REF!"}},{"$f":"IF(#REF!=\"\",\"\",#REF!)","v":{"$error":"#REF!"}},null,4,{"$f":"IF(#REF!=\"\",\"\",#REF!)","v":{"$error":"#REF!"}},{"$f":"IF(#REF!=\"\",\"\",#REF!)","v":{"$error":"#REF!"}},null,null,{"$f":"IF(#REF!=\"\",\"\",#REF!)","v":{"$error":"#REF!"}},{"$f":"IF(#REF!=\"\",\"\",#REF!)","v":{"$error":"#REF!"}},{"$f":"IF(#REF!=\"\",\"\",#REF!)","v":{"$error":"#REF!"}},{"$f":"IF(#REF!=\"\",\"\",#REF!)","v":{"$error":"#REF!"}},{"$f":"IF(#REF!=\"\",\"\",#REF!)","v":{"$error":"#REF!"}},{"$f":"IF(#REF!=\"\",\"\",#REF!)","v":{"$error":"#REF!"}},{"$f":"IF(#REF!=\"\",\"\",#REF!)","v":{"$error":"#REF!"}},{"$f":"IF(#REF!=\"\",\"\",#REF!)","v":{"$error":"#REF!"}},{"$f":"IF(#REF!=\"\",\"\",#REF!)","v":{"$error":"#REF!"}},{"$f":"IF(#REF!=\"\",\"\",#REF!)","v":{"$error":"#REF!"}},{"$f":"IF(#REF!=\"\",\"\",#REF!)","v":{"$error":"#REF!"}},{"$f":"IF(#REF!=\"\",\"\",#REF!)","v":{"$error":"#REF!"}},{"$f":"IF(#REF!=\"\",\"\",#REF!)","v":{"$error":"#REF!"}},{"$f":"IF(#REF!=\"\",\"\",#REF!)","v":{"$error":"#REF!"}},{"$f":"IF(#REF!=\"\",\"\",#REF!)","v":{"$error":"#REF!"}},{"$f":"IF(#REF!=\"\",\"\",#REF!)","v":{"$error":"#REF!"}},{"$f":"IF(#REF!=\"\",\"\",#REF!)","v":{"$error":"#REF!"}},{"$f":"IF(#REF!=\"\",\"\",#REF!)","v":{"$error":"#REF!"}}]
[null,null,{"$f":"IF(#REF!=\"\",\"\",#REF!)","v":{"$error":"#REF!"}},null,null,null,{"$f":"IF(#REF!=\"\",\"\",#REF!)","v":{"$error":"#REF!"}},null,null,5,{"$f":"IF(#REF!=\"\",\"\",#REF!)","v":{"$error":"#REF!"}},{"$f":"IF(#REF!=\"\",\"\",#REF!)","v":{"$error":"#REF!"}},null,5,{"$f":"IF(#REF!=\"\",\"\",#REF!)","v":{"$error":"#REF!"}},{"$f":"IF(#REF!=\"\",\"\",#REF!)","v":{"$error":"#REF!"}}]
[null,3,{"$f":"IF(#REF!=\"\",\"\",#REF!)","v":{"$error":"#REF!"}},{"$f":"IF(#REF!=\"\",\"\",#REF!)","v":{"$error":"#REF!"}},null,3,{"$f":"IF(#REF!=\"\",\"\",#REF!)","v":{"$error":"#REF!"}},{"$f":"IF(#REF!=\"\",\"\",#REF!)","v":{"$error":"#REF!"}},null,6,{"$f":"IF(#REF!=\"\",\"\",#REF!)","v":{"$error":"#REF!"}},{"$f":"IF(#REF!=\"\",\"\",#REF!)","v":{"$error":"#REF!"}},null,"補欠",{"$f":"IF(#REF!=\"\",\"\",#REF!)","v":{"$error":"#REF!"}},{"$f":"IF(#REF!=\"\",\"\",#REF!)","v":{"$error":"#REF!"}}]
[null,null,{"$f":"IF(#REF!=\"\",\"\",#REF!)","v":{"$error":"#REF!"}},null,null,null,{"$f":"IF(#REF!=\"\",\"\",#REF!)","v":{"$error":"#REF!"}},null,null,"補欠",{"$f":"IF(#REF!=\"\",\"\",#REF!)","v":{"$error":"#REF!"}},{"$f":"IF(#REF!=\"\",\"\",#REF!)","v":{"$error":"#REF!"}},null,"補欠",{"$f":"IF(#REF!=\"\",\"\",#REF!)","v":{"$error":"#REF!"}},{"$f":"IF(#REF!=\"\",\"\",#REF!)","v":{"$error":"#REF!"}}]
[null,4,{"$f":"IF(#REF!=\"\",\"\",#REF!)","v":{"$error":"#REF!"}},{"$f":"IF(#REF!=\"\",\"\",#REF!)","v":{"$error":"#REF!"}},null,4,{"$f":"IF(#REF!=\"\",\"\",#REF!)","v":{"$error":"#REF!"}},{"$f":"IF(#REF!=\"\",\"\",#REF!)","v":{"$error":"#REF!"}},null,"補欠",{"$f":"IF(#REF!=\"\",\"\",#REF!)","v":{"$error":"#REF!"}},{"$f":"IF(#REF!=\"\",\"\",#REF!)","v":{"$error":"#REF!"}},null,"補欠",{"$f":"IF(#REF!=\"\",\"\",#REF!)","v":{"$error":"#REF!"}},{"$f":"IF(#REF!=\"\",\"\",#REF!)","v":{"$error":"#REF!"}}]
[null,null,{"$f":"IF(#REF!=\"\",\"\",#REF!)","v":{"$error":"#REF!"}},null,null,null,{"$f":"IF(#REF!=\"\",\"\",#REF!)","v":{"$error":"#REF!"}},null,null,"補欠",{"$f":"IF(#REF!=\"\",\"\",#REF!)","v":{"$error":"#REF!"}},{"$f":"IF(#REF!=\"\",\"\",#REF!)","v":{"$error":"#REF!"}}]
[null,5,{"$f":"IF(#REF!=\"\",\"\",#REF!)","v":{"$error":"#REF!"}},{"$f":"IF(#REF!=\"\",\"\",#REF!)","v":{"$error":"#REF!"}},null,5,{"$f":"IF(#REF!=\"\",\"\",#REF!)","v":{"$error":"#REF!"}},{"$f":"IF(#REF!=\"\",\"\",#REF!)","v":{"$error":"#REF!"}}]
[null,null,{"$f":"IF(#REF!=\"\",\"\",#REF!)","v":{"$error":"#REF!"}},null,null,null,{"$f":"IF(#REF!=\"\",\"\",#REF!)","v":{"$error":"#REF!"}}]
[null,6,{"$f":"IF(#REF!=\"\",\"\",#REF!)","v":{"$error":"#REF!"}},{"$f":"IF(#REF!=\"\",\"\",#REF!)","v":{"$error":"#REF!"}},null,6,{"$f":"IF(#REF!=\"\",\"\",#REF!)","v":{"$error":"#REF!"}},{"$f":"IF(#REF!=\"\",\"\",#REF!)","v":{"$error":"#REF!"}}]
[null,null,{"$f":"IF(#REF!=\"\",\"\",#REF!)","v":{"$error":"#REF!"}},null,null,null,{"$f":"IF(#REF!=\"\",\"\",#REF!)","v":{"$error":"#REF!"}}]
[null,7,{"$f":"IF(#REF!=\"\",\"\",#REF!)","v":{"$error":"#REF!"}},{"$f":"IF(#REF!=\"\",\"\",#REF!)","v":{"$error":"#REF!"}},null,7,{"$f":"IF(#REF!=\"\",\"\",#REF!)","v":{"$error":"#REF!"}},{"$f":"IF(#REF!=\"\",\"\",#REF!)","v":{"$error":"#REF!"}}]
[null,null,{"$f":"IF(#REF!=\"\",\"\",#REF!)","v":{"$error":"#REF!"}},null,null,null,{"$f":"IF(#REF!=\"\",\"\",#REF!)","v":{"$error":"#REF!"}}]
[null,8,{"$f":"IF(#REF!=\"\",\"\",#REF!)","v":{"$error":"#REF!"}},{"$f":"IF(#REF!=\"\",\"\",#REF!)","v":{"$error":"#REF!"}},null,8,{"$f":"IF(#REF!=\"\",\"\",#REF!)","v":{"$error":"#REF!"}},{"$f":"IF(#REF!=\"\",\"\",#REF!)","v":{"$error":"#REF!"}}]
[null,null,{"$f":"IF(#REF!=\"\",\"\",#REF!)","v":{"$error":"#REF!"}},null,null,null,{"$f":"IF(#REF!=\"\",\"\",#REF!)","v":{"$error":"#REF!"}}]
[null,9,{"$f":"IF(#REF!=\"\",\"\",#REF!)","v":{"$error":"#REF!"}},{"$f":"IF(#REF!=\"\",\"\",#REF!)","v":{"$error":"#REF!"}},null,9,{"$f":"IF(#REF!=\"\",\"\",#REF!)","v":{"$error":"#REF!"}},{"$f":"IF(#REF!=\"\",\"\",#REF!)","v":{"$error":"#REF!"}}]
[null,null,{"$f":"IF(#REF!=\"\",\"\",#REF!)","v":{"$error":"#REF!"}},null,null,null,{"$f":"IF(#REF!=\"\",\"\",#REF!)","v":{"$error":"#REF!"}}]