{"text_format":"1","workbook":"xlsx","n_sheets":7,"sheets":["お詫びと訂正","はじめに(留意点)","入力シート","男子_申込書","女子_申込書","Sheet1","プログラム用"],"not_rendered":{"charts":0,"images":0,"macros":1,"external_links":0,"defined_names":3,"comments":1,"pivot_tables":0},"unopened":[],"bounds":{"document_bytes":16777216,"sheet_cells":100000,"rows_first":2000,"rows_last":500,"rows_between":2000,"halvings":0,"cell_chars":16384,"cell_head_chars":4096},"cells_cut":0,"cells_raw":0,"read":"whole","date_system":"1900"}

{"sheet":"お詫びと訂正","index":0,"n_rows":9,"n_cols":7,"rows_kept":9,"cut":false,"hidden":false,"merged":[[7,6,7,7],[8,6,8,7],[4,1,4,7],[1,1,1,7],[5,2,5,7],[6,2,6,7]]}
[]
[null,"県中学校駅伝競走大会事務局からのお詫びと訂正"]
[]
[null,"　先生方にはいつもお世話になっております。"]
[null,"　９月５日に県大会の申込書を県中体連ＨＰに掲載しました。数校の学校から「その申込みだと各区間まで指定して申込みをする様式になっていて，それでは試走していない段階で区間は決定できない」とご指摘をいただきました。\n大会要項通り，区間のエントリーシートは大会前日までで大丈夫です。申込書には通し番号で記入したものを県中体連ＨＰに再度掲載しますのでご確認ください。期間が短い中で関係者の皆様には大変ご迷惑をおかけしておりますが，何とぞご理解ご協力をよろしくお願いします。"]
[null,null,"宮城県中体連駅伝事務局　栗原市立築館中学校"]
[null,null,"谷田　敏幸　"]
[null,null,null,null,null,"TEL   ","　0228-22-3146"]
[null,null,null,null,null,"FAX","　0228-22-2387"]

{"sheet":"はじめに(留意点)","index":1,"n_rows":32,"n_cols":10,"rows_kept":32,"cut":false,"hidden":false,"merged":[[1,1,1,14],[5,2,5,14],[8,2,8,14],[22,2,22,13],[6,3,6,13],[9,3,9,13],[20,3,20,13],[21,3,21,13],[16,2,16,14],[2,1,2,14],[4,2,4,14],[11,2,11,14],[15,2,15,14],[17,3,17,14],[29,9,29,12],[30,9,30,12],[31,7,31,8],[31,9,31,12],[12,3,12,13],[13,3,13,13],[18,3,18,14],[19,3,19,14],[26,2,26,13],[27,2,27,13],[28,2,28,13],[23,2,23,13],[24,2,24,13],[25,2,25,13]]}
[]
[null,"＜令和元年度宮城県中学校駅伝競走大会申し込みの留意点＞"]
[null,"令和元年度宮城県中学校駅伝競走大会実行委員会事務局"]
[]
[null,1,"申し込みの記入に関して"]
[null,null,"①　各校の情報は「黄色」の入力シートに記入してください。"]
[null,null,null,"青(男子_申込書)やピンク(女子_申込書)のシートは印刷用です。黄色のシートとリンクされているので変更しないようお願いします。"]
[]
[null,null,"②　プログラム申し込みのタグに購入するプログラムの冊数を記入してください。"]
[null,null,null,"※プログラムの代金は１冊５００円です。\n※プログラムは当日受付で代金と引き替えでお渡しします。"]
[]
[null,null,"③　作成したファイルは学校名を入れて保存してください"]
[null,null,null,"【学校番号-○○中】宮城県駅伝申込書.xlsmとファイル名を変えるようお願いします。"]
[null,null,null," ※学校番号が１桁の学校は【00】のように最初に0をつけて下さい。"]
[]
[null,2,"申し込みの提出について"]
[null,null,"申し込みにはデータの送付と申込書，参加生徒（補欠を含む）の集合写真が必要です。"]
[null,null,"①","申し込みデータを電子メールで送付してください。"]
[null,null,"②","大会申込書はファイルから印刷をして，印が押されたものを郵送してください。"]
[null,null,"③","写真は男子と女子を分け，生徒の顔がわかる程度の大きさで撮影してください。"]
[null,null,"④","各自治体で運営しているメールサーバーには容量制限があるので注意が必要です。送付ができない場合には，カメラの設定で画素数を下げるか，撮影後に画像サイズを小さくして下さい。（メーカーや機種によって圧縮率が異なりますのでパソコンでファイルサイズを確認してから送付すると良いと思います。）"]
[null,null,"⑤","個人情報の取り扱いとして，各校でこの個人情報が本大会プログラムへの掲載されることと，成績上位者については報道発表並びにホームページに掲載することを口頭で生徒・保護者に伝えてください。記載に関して同意が得られない場合は，事務局にご連絡下さい。 また，大会プログラムへの写真掲載の可否を申込書に必ずご記入下さい。"]
[null,null,"【申し込みデータ提出期限】　９月１３日（金）１６：００まで"]
[null,null,"【大会申込書提出期限】　　　９月１７日（火）郵送必着"]
[null,null,"【区間登録用紙提出期限】　１０月　８日（火）１３：００まで大会事務　　　　　　　　　　　　　　　\n　　　　　　　　　　　　局に提出。または，１０月７日（月）まで事務　　　　　\n　　　　　　　　　　　　局に郵送必着。"]
[null,null,"【提出先】　　　　　〒987-2215"]
[null,null,"　　　　　　　　　　宮城県栗原市築館高田二丁目８番地１号"]
[null,null,"　　　　　　　　　　宮城県中体連駅伝事務局　栗原市立築館中学校"]
[null,null,"　　　　　　　　　　　　　　　　　　　　谷田　敏幸"]
[null,null,null,null,null,null,null,null,"TEL   ","　0228-22-3146"]
[null,null,null,null,null,null,null,null,"FAX","　0228-22-2387"]
[null,null,null,null,null,null,null,"E-mail",null,"tsukidate_jhs@kuriharacity.jp"]

{"sheet":"入力シート","index":2,"n_rows":37,"n_cols":23,"rows_kept":37,"cut":false,"hidden":false,"merged":[[1,14,1,20],[1,0,1,5],[1,7,1,12],[2,14,2,16],[2,18,2,20]]}
["★","セルのコメントを参考にし，記入してください。"]
["男子チーム記入欄",null,null,null,null,null,null,"女子チーム記入欄",null,null,null,null,null,null,"学校番号　一覧表"]
[null,null,null,null,null,null,null,null,null,null,null,null,null,null,"男子",null,null,null,"女子"]
[null,"日付",null,"令和元年  月　　日",null,null,null,null,"日付",null,"令和元年  月　　日",null,null,null,"学校\n番号","地区名","地区\n順位",null,"学校\n番号","地区名","地区\n順位"]
[null,"学校番号",null,null,null,null,null,null,"学校番号",null,null,null,null,null,1,"白石・刈田","1位",null,1,"白石・刈田","1位"]
[null,"地区名",null,{"$f":"IF(D5=\"\",\"\",VLOOKUP(D5,O5:Q38,2,FALSE))","v":""},null,null,null,null,"地区順位",null,{"$f":"IF(K5=\"\",\"\",VLOOKUP(K5,S5:U38,2,FALSE))","v":""},null,null,null,2,"角田・伊具","1位",null,2,"角田・伊具","1位"]
[null,"地区順位",null,{"$f":"IF(D5=\"\",\"\",IF(E7<>\"\",E7,VLOOKUP(D5,O5:Q38,3,FALSE)))","v":""},null,null,null,null,"地区順位",null,{"$f":"IF(K5=\"\",\"\",IF(L7<>\"\",L7,VLOOKUP(K5,S5:U38,3,FALSE)))","v":""},null,null,null,3,"柴田郡","1位",null,3,"柴田郡","1位",null,"○"]
[null,"学校名(○○立/○○)",null,null,null,"中学校",null,null,"学校名(○○立/○○)",null,null,null,"中学校",null,4,"亘理郡","1位",null,4,"亘理郡","1位",null,"×"]
[null,"電話／ＦＡＸ",null,null,null,null,null,null,"電話／ＦＡＸ",null,null,null,null,null,5,"岩沼市","1位",null,5,"岩沼市","1位"]
[null,"校長名",null,null,null,null,null,null,"校長名",null,null,null,null,null,6,"名取市","1位",null,6,"名取市","1位"]
[null,"監督名",null,null,null,null,null,null,"監督名",null,null,null,null,null,7,"仙台市","1位",null,7,"仙台市","1位"]
[null,"引率責任者",null,null,null,null,null,null,"引率責任者",null,null,null,null,null,8,"仙台市","2位",null,8,"仙台市","2位"]
[null,"連絡先",null,null,null,null,null,null,"連絡先",null,null,null,null,null,9,"仙台市","3位",null,9,"仙台市","3位"]
[null,"写真掲載の有無",null,null,"ふりがな","学年",null,null,"写真掲載の有無",null,null,"ふりがな","学年",null,10,"仙台市","4位",null,10,"仙台市","4位"]
[null,"走者","例","宮城　太郎",{"$f":"PHONETIC(D15)","v":"みやぎ　たろう"},3,null,null,"走者","例","宮城　花子",{"$f":"PHONETIC(K15)","v":"みやぎ　はなこ"},2,null,11,"仙台市","5位",null,11,"仙台市","5位"]
[null,null,1,null,{"$f":"PHONETIC(D16)","v":""},null,null,null,null,1,null,{"$f":"PHONETIC(K16)","v":""},null,null,12,"仙台市","6位",null,12,"仙台市","6位"]
[null,null,2,null,{"$f":"PHONETIC(D17)","v":""},null,null,null,null,2,null,{"$f":"PHONETIC(K17)","v":""},null,null,13,"仙台市","7位",null,13,"仙台市","7位"]
[null,null,3,null,"",null,null,null,null,3,null,"",null,null,14,"仙台市","8位",null,14,"仙台市","8位"]
[null,null,4,null,"",null,null,null,null,4,null,"",null,null,15,"仙台市","9位",null,15,"塩竃市","1位"]
[null,null,5,null,"",null,null,null,null,5,null,"",null,null,16,"塩竃市","1位",null,16,"多賀城市","1位"]
[null,null,6,null,"",null,null,null,null,"補欠",null,{"$f":"PHONETIC(K21)","v":""},null,null,17,"多賀城市","1位",null,17,"宮城郡","1位"]
[null,null,"補欠",null,"",null,null,null,null,"補欠",null,{"$f":"PHONETIC(K22)","v":""},null,null,18,"宮城郡","1位",null,18,"富谷・黒川","1位"]
[null,null,"補欠",null,"",null,null,null,null,"補欠",null,{"$f":"PHONETIC(K23)","v":""},null,null,19,"富谷・黒川","1位",null,19,"石巻地区","1位"]
[null,null,"補欠",null,"",null,null,null,null,null,null,null,null,null,20,"石巻地区","1位",null,20,"石巻地区","2位"]
[null,null,null,null,null,null,null,null,null,null,null,null,null,null,21,"石巻地区","2位",null,21,"石巻地区","3位"]
[null,null,null,null,null,null,null,null,null,null,null,null,null,null,22,"石巻地区","3位",null,22,"遠田郡","1位"]
[null,null,null,null,null,null,null,null,null,null,null,null,null,null,23,"遠田郡","1位",null,23,"大崎市","1位"]
[null,null,null,null,null,null,null,null,null,null,null,null,null,null,24,"大崎市","1位",null,24,"大崎市","2位"]
[null,null,null,null,null,null,null,null,null,null,null,null,null,null,25,"大崎市","2位",null,25,"加美郡","1位"]
[null,null,null,null,null,null,null,null,null,null,null,null,null,null,26,"加美郡","1位",null,26,"栗原市","1位"]
[null,null,null,null,null,null,null,null,null,null,null,null,null,null,27,"栗原市","1位",null,27,"登米市","1位"]
[null,null,null,null,null,null,null,null,null,null,null,null,null,null,28,"登米市","1位",null,28,"気仙沼・本吉","1位"]
[null,null,null,null,null,null,null,null,null,null,null,null,null,null,29,"気仙沼・本吉","1位",null,29,"気仙沼・本吉","2位"]
[null,null,null,null,null,null,null,null,null,null,null,null,null,null,30,"気仙沼・本吉","2位",null,30,"栗原市","2位"]
[null,null,null,null,null,null,null,null,null,null,null,null,null,null,31,"栗原市","2位",null,31,"登米市","2位"]
[null,null,null,null,null,null,null,null,null,null,null,null,null,null,32,"登米市","2位",null,32,"栗原市","3位"]
[null,null,null,null,null,null,null,null,null,null,null,null,null,null,33,"栗原市","3位"]

{"sheet":"男子_申込書","index":3,"n_rows":28,"n_cols":11,"rows_kept":28,"cut":false,"hidden":false,"merged":[[13,2,13,5],[10,2,10,5],[10,7,10,8],[1,1,1,10],[6,1,6,2],[7,1,7,2],[7,6,7,7],[4,3,4,10],[6,3,6,10],[7,3,7,5],[7,8,7,10],[13,6,13,9],[12,6,12,9],[28,1,28,10],[21,1,21,10],[24,1,24,10],[25,1,25,10],[27,7,27,8],[26,2,26,3],[27,1,27,4],[20,1,20,6],[3,1,3,2],[3,3,3,7],[3,9,3,10],[4,1,5,2],[5,3,5,10],[17,2,17,5],[18,2,18,5],[19,2,19,5],[14,2,14,5],[15,2,15,5],[16,2,16,5],[11,2,11,5],[12,2,12,5],[11,6,11,9],[19,6,19,9],[18,6,18,9],[17,6,17,9],[16,6,16,9],[15,6,15,9],[14,6,14,9]]}
[]
[null,"令和元年度宮城県中学校駅伝競走大会申込書（男子）"]
[]
[null,"地区名",null,{"$f":"IF(入力シート!D6=\"\",\"\",入力シート!D6)","v":""},null,null,null,null,"地区順位",{"$f":"IF(入力シート!D7=\"\",\"\",入力シート!D7)","v":""}]
[null,"学校名",null,{"$f":"IF(入力シート!$D$8=\"\",\"\",入力シート!$D$8&入力シート!$E$8&\"中学校\")","v":""}]
[null,null,null,{"$f":"IF(入力シート!D9=\"\",\"\",\"TEL ( \"&入力シート!D9&\" )　　FAX ( \"&入力シート!E9&\" )\")","v":""}]
[null,"監督名",null,{"$f":"IF(入力シート!D11=\"\",\"\",入力シート!D11)","v":""}]
[null,"引率責任者氏名",null,{"$f":"IF(入力シート!D12=\"\",\"\",入力シート!D12)","v":""},null,null,"連絡先",null,{"$f":"IF(入力シート!D13=\"\",\"\",入力シート!D13)","v":""}]
[]
[null,"学校番号",{"$f":"IF(入力シート!D5=\"\",\"\",\"No.\"&入力シート!D5)","v":""}]
[null,"区間","選　　手　　名",null,null,null,null,"ふりがな",null,null,"学年"]
[null,1,{"$f":"IF(入力シート!D16=\"\",\"\",入力シート!D16)","v":""},null,null,null,{"$f":"IF(入力シート!E16=\"\",\"\",入力シート!E16)","v":""},null,null,null,{"$f":"IF(入力シート!F16=\"\",\"\",DBCS(入力シート!F16))","v":""}]
[null,2,{"$f":"IF(入力シート!D17=\"\",\"\",入力シート!D17)","v":""},null,null,null,{"$f":"IF(入力シート!E17=\"\",\"\",入力シート!E17)","v":""},null,null,null,{"$f":"IF(入力シート!F17=\"\",\"\",DBCS(入力シート!F17))","v":""}]
[null,3,{"$f":"IF(入力シート!D18=\"\",\"\",入力シート!D18)","v":""},null,null,null,{"$f":"IF(入力シート!E18=\"\",\"\",入力シート!E18)","v":""},null,null,null,{"$f":"IF(入力シート!F18=\"\",\"\",DBCS(入力シート!F18))","v":""}]
[null,4,{"$f":"IF(入力シート!D19=\"\",\"\",入力シート!D19)","v":""},null,null,null,{"$f":"IF(入力シート!E19=\"\",\"\",入力シート!E19)","v":""},null,null,null,{"$f":"IF(入力シート!F19=\"\",\"\",DBCS(入力シート!F19))","v":""}]
[null,5,{"$f":"IF(入力シート!D20=\"\",\"\",入力シート!D20)","v":""},null,null,null,{"$f":"IF(入力シート!E20=\"\",\"\",入力シート!E20)","v":""},null,null,null,{"$f":"IF(入力シート!F20=\"\",\"\",DBCS(入力シート!F20))","v":""}]
[null,6,{"$f":"IF(入力シート!D21=\"\",\"\",入力シート!D21)","v":""},null,null,null,{"$f":"IF(入力シート!E21=\"\",\"\",入力シート!E21)","v":""},null,null,null,{"$f":"IF(入力シート!F21=\"\",\"\",DBCS(入力シート!F21))","v":""}]
[null,"補欠",{"$f":"IF(入力シート!D22=\"\",\"\",入力シート!D22)","v":""},null,null,null,{"$f":"IF(入力シート!E22=\"\",\"\",入力シート!E22)","v":""},null,null,null,{"$f":"IF(入力シート!F22=\"\",\"\",DBCS(入力シート!F22))","v":""}]
[null,"補欠",{"$f":"IF(入力シート!D23=\"\",\"\",入力シート!D23)","v":""},null,null,null,{"$f":"IF(入力シート!E23=\"\",\"\",入力シート!E23)","v":""},null,null,null,{"$f":"IF(入力シート!F23=\"\",\"\",DBCS(入力シート!F23))","v":""}]
[null,"補欠",{"$f":"IF(入力シート!D24=\"\",\"\",入力シート!D24)","v":""},null,null,null,{"$f":"IF(入力シート!E24=\"\",\"\",入力シート!E24)","v":""},null,null,null,{"$f":"IF(入力シート!F24=\"\",\"\",DBCS(入力シート!F24))","v":""}]
[null,"プログラムへの写真掲載",null,null,null,null,null,{"$f":"IF(入力シート!D14=\"○\",\"可\",IF(入力シート!D14=\"×\",\"非\",\"\"))","v":""}]
[null,"※学校受付及び選手変更は，当日の朝 ７：３０ までに終了して下さい。"]
[]
[]
[null,"　上記の者は，本校在学中で，学校医による健康診断を受けており，標記大会に参加することを承認します。"]
[null,"　また，大会要項に記載の内容を確認し，本人及び保護者の同意を得ています。"]
[null,null,{"$f":"IF(入力シート!D4=\"\",\"\",入力シート!D4)","v":"令和元年  月　　日"}]
[null,{"$f":"IF(入力シート!$D$8=\"\",\"\",入力シート!$D$8&入力シート!$E$8&\"中学校\")","v":""},null,null,null,null,"校長",{"$f":"IF(入力シート!D10=\"\",\"\",入力シート!D10)","v":""},null,"印"]

{"sheet":"女子_申込書","index":4,"n_rows":28,"n_cols":11,"rows_kept":28,"cut":false,"hidden":false,"merged":[[1,1,1,10],[3,1,3,2],[3,3,3,7],[3,9,3,10],[4,1,5,2],[4,3,4,10],[5,3,5,10],[6,1,6,2],[6,3,6,10],[7,1,7,2],[7,3,7,5],[7,6,7,7],[7,8,7,10],[10,2,10,5],[10,7,10,8],[11,2,11,5],[11,6,11,9],[12,2,12,5],[12,6,12,9],[13,2,13,5],[13,6,13,9],[14,2,14,5],[14,6,14,9],[15,2,15,5],[15,6,15,9],[16,2,16,5],[16,6,16,9],[17,2,17,5],[17,6,17,9],[18,2,18,5],[18,6,18,9],[26,2,26,3],[27,1,27,4],[27,7,27,8],[28,1,28,10],[20,1,20,6],[21,1,21,10],[24,1,24,10],[25,1,25,10]]}
[]
[null,"令和元年度宮城県中学校駅伝競走大会申込書（女子）"]
[]
[null,"地区名",null,{"$f":"IF(入力シート!K6=\"\",\"\",入力シート!K6)","v":""},null,null,null,null,"地区順位",{"$f":"IF(入力シート!K7=\"\",\"\",入力シート!K7)","v":""}]
[null,"学校名",null,{"$f":"IF(入力シート!$K$8=\"\",\"\",入力シート!$K$8&入力シート!$L$8&\"中学校\")","v":""}]
[null,null,null,{"$f":"IF(入力シート!K9=\"\",\"\",\"TLL ( \"&入力シート!K9&\" )　　FAX ( \"&入力シート!L9&\" )\")","v":""}]
[null,"監督名",null,{"$f":"IF(入力シート!K11=\"\",\"\",入力シート!K11)","v":""}]
[null,"引率責任者氏名",null,{"$f":"IF(入力シート!K12=\"\",\"\",入力シート!K12)","v":""},null,null,"連絡先",null,{"$f":"IF(入力シート!K13=\"\",\"\",入力シート!K13)","v":""}]
[]
[null,"学校番号",{"$f":"IF(入力シート!K5=\"\",\"\",\"No.\"&入力シート!K5)","v":""}]
[null,"区間","選　　手　　名",null,null,null,null,"ふりがな",null,null,"学年"]
[null,1,{"$f":"IF(入力シート!K16=\"\",\"\",入力シート!K16)","v":""},null,null,null,{"$f":"IF(入力シート!L16=\"\",\"\",入力シート!L16)","v":""},null,null,null,{"$f":"IF(入力シート!M16=\"\",\"\",DBCS(入力シート!M16))","v":""}]
[null,2,{"$f":"IF(入力シート!K17=\"\",\"\",入力シート!K17)","v":""},null,null,null,{"$f":"IF(入力シート!L17=\"\",\"\",入力シート!L17)","v":""},null,null,null,{"$f":"IF(入力シート!M17=\"\",\"\",DBCS(入力シート!M17))","v":""}]
[null,3,{"$f":"IF(入力シート!K18=\"\",\"\",入力シート!K18)","v":""},null,null,null,{"$f":"IF(入力シート!L18=\"\",\"\",入力シート!L18)","v":""},null,null,null,{"$f":"IF(入力シート!M18=\"\",\"\",DBCS(入力シート!M18))","v":""}]
[null,4,{"$f":"IF(入力シート!K19=\"\",\"\",入力シート!K19)","v":""},null,null,null,{"$f":"IF(入力シート!L19=\"\",\"\",入力シート!L19)","v":""},null,null,null,{"$f":"IF(入力シート!M19=\"\",\"\",DBCS(入力シート!M19))","v":""}]
[null,5,{"$f":"IF(入力シート!K20=\"\",\"\",入力シート!K20)","v":""},null,null,null,{"$f":"IF(入力シート!L20=\"\",\"\",入力シート!L20)","v":""},null,null,null,{"$f":"IF(入力シート!M20=\"\",\"\",DBCS(入力シート!M20))","v":""}]
[null,"補欠",{"$f":"IF(入力シート!K21=\"\",\"\",入力シート!K21)","v":""},null,null,null,{"$f":"IF(入力シート!L21=\"\",\"\",入力シート!L21)","v":""},null,null,null,{"$f":"IF(入力シート!M21=\"\",\"\",DBCS(入力シート!M21))","v":""}]
[null,"補欠",{"$f":"IF(入力シート!K22=\"\",\"\",入力シート!K22)","v":""},null,null,null,{"$f":"IF(入力シート!L22=\"\",\"\",入力シート!L22)","v":""},null,null,null,{"$f":"IF(入力シート!M22=\"\",\"\",DBCS(入力シート!M22))","v":""}]
[null,"補欠",{"$f":"IF(入力シート!K23=\"\",\"\",入力シート!K23)","v":""},null,null,null,{"$f":"IF(入力シート!L23=\"\",\"\",入力シート!L23)","v":""},null,null,null,{"$f":"IF(入力シート!M23=\"\",\"\",DBCS(入力シート!M23))","v":""}]
[]
[null,"プログラムへの写真掲載",null,null,null,null,null,{"$f":"IF(入力シート!K14=\"○\",\"可\",IF(入力シート!K14=\"×\",\"非\",\"\"))","v":""}]
[null,"※学校受付及び選手変更は，当日の朝 ７：３０ までに終了して下さい。"]
[]
[]
[null,"　上記の者は，本校在学中で，学校医による健康診断を受けており，標記大会に参加することを承認します。"]
[null,"　また，大会要項に記載の内容を確認し，本人及び保護者の同意を得ています。"]
[null,null,{"$f":"IF(入力シート!K4=\"\",\"\",入力シート!K4)","v":"令和元年  月　　日"}]
[null,{"$f":"IF(入力シート!$K$8=\"\",\"\",入力シート!$K$8&入力シート!$L$8&\"中学校\")","v":""},null,null,null,null,"校長",{"$f":"IF(入力シート!K10=\"\",\"\",入力シート!K10)","v":""},null,"印"]

{"sheet":"Sheet1","index":5,"n_rows":0,"n_cols":0,"rows_kept":0,"cut":false,"hidden":false,"merged":[]}

{"sheet":"プログラム用","index":6,"n_rows":24,"n_cols":38,"rows_kept":24,"cut":false,"hidden":true,"merged":[[6,28,6,29],[6,30,7,35],[7,20,7,21],[7,22,7,23],[7,24,7,25],[7,26,7,27],[7,28,7,29],[6,20,6,21],[6,22,6,23],[6,24,6,25],[6,26,6,27],[2,24,2,25],[2,26,2,27],[2,30,2,31],[2,32,3,37],[3,20,3,21],[3,22,3,23],[3,24,3,25],[3,26,3,27],[3,28,3,29],[3,30,3,31],[2,28,2,29],[2,17,4,17],[6,17,8,17],[2,19,3,19],[2,20,2,21],[2,22,2,23],[2,18,3,18],[6,18,7,18],[6,19,7,19],[18,1,19,1],[20,1,21,1],[22,1,23,1],[6,3,7,3],[8,3,9,3],[10,3,11,3],[14,3,15,3],[18,3,19,3],[22,3,23,3],[20,3,21,3],[16,3,17,3],[12,3,13,3],[6,1,7,1],[8,1,9,1],[10,1,11,1],[12,1,13,1],[3,1,3,3],[2,2,2,3],[4,2,4,3],[1,1,1,3],[16,1,17,1],[14,1,15,1],[6,5,7,5],[6,7,7,7],[8,5,9,5],[8,7,9,7],[10,5,11,5],[10,7,11,7],[12,5,13,5],[12,7,13,7],[14,5,15,5],[14,7,15,7],[16,5,17,5],[16,7,17,7],[18,5,19,5],[18,7,19,7],[20,5,21,5],[20,7,21,7],[22,5,23,5],[22,7,23,7],[1,13,1,15],[1,5,1,7],[2,6,2,7],[3,5,3,7],[4,6,4,7],[1,9,1,11]]}
[null,"プログラム用選手一覧",null,null,null,null,null,null,null,"成績入力用選手一覧",null,null,null,null,null,null,null,"プログラム用選手一覧"]
[null,"選手一覧（男子）",null,null,null,"選手一覧（女子）",null,null,null,"選手一覧（男子）",null,null,null,"選手一覧（女子）"]
[null,{"$f":"IF(入力シート!$D5=\"\",\"\",入力シート!$D5)","v":""},{"$f":"IF(入力シート!$D$8=\"\",\"\",入力シート!$D$8&入力シート!$E$8&\"中学校\")","v":""},null,null,{"$f":"IF(入力シート!$K5=\"\",\"\",入力シート!$K5)","v":""},{"$f":"IF(入力シート!$K$8=\"\",\"\",入力シート!$K$8&入力シート!$L$8&\"中学校\")","v":""},null,null,"学校名",{"$f":"IF(入力シート!$E$8=\"\",\"\",入力シート!$E$8&\"中\")","v":""},null,null,"学校名",{"$f":"IF(入力シート!$E$8=\"\",\"\",入力シート!$E$8&\"中\")","v":""},null,null,"男子","学校名","監督名","第 １ 区",null,"第 ２ 区",null,"第 ３ 区",null,"第 ４ 区",null,"第 ５ 区",null,"第 ６ 区",null,"補欠"]
[null,"写真欄",null,null,null,"写真欄",null,null,null,"監督名",{"$f":"IF(入力シート!$D11=\"\",\"\",入力シート!$D11)","v":""},null,null,"監督名",{"$f":"IF(入力シート!$K11=\"\",\"\",入力シート!$K11)","v":""},null,null,null,null,null,"( 3.0 km )",null,"( 2.9 km )",null,"( 3.2 km)",null,"( 3.0 km )",null,"( 2.9 km )",null,"( 3.0 km )"]
[null,"監督",{"$f":"IF(入力シート!$D$11=\"\",\"\",入力シート!$D$11)","v":""},null,null,"監督",{"$f":"IF(入力シート!$K$11=\"\",\"\",入力シート!$K$11)","v":""},null,null,"区間","選手名","学年",null,"区間","選手名","学年",null,null,{"$f":"IF(入力シート!E$8=\"\",\"\",入力シート!E$8)","v":""},{"$f":"IF(入力シート!D$11=\"\",\"\",入力シート!D$11)","v":""},{"$f":"IF(入力シート!D$16=\"\",\"\",入力シート!D$16)","v":""},{"$f":"IF(入力シート!F$16=\"\",\"\",入力シート!F$16)","v":""},{"$f":"IF(入力シート!D$17=\"\",\"\",入力シート!D$17)","v":""},{"$f":"IF(入力シート!F$17=\"\",\"\",入力シート!F$17)","v":""},{"$f":"IF(入力シート!D$18=\"\",\"\",入力シート!D$18)","v":""},{"$f":"IF(入力シート!F$18=\"\",\"\",入力シート!F$18)","v":""},{"$f":"IF(入力シート!D$19=\"\",\"\",入力シート!D$19)","v":""},{"$f":"IF(入力シート!F$19=\"\",\"\",入力シート!F$19)","v":""},{"$f":"IF(入力シート!D$20=\"\",\"\",入力シート!D$20)","v":""},{"$f":"IF(入力シート!F$20=\"\",\"\",入力シート!F$20)","v":""},{"$f":"IF(入力シート!D$21=\"\",\"\",入力シート!D$21)","v":""},{"$f":"IF(入力シート!F$21=\"\",\"\",入力シート!F$21)","v":""},{"$f":"IF(入力シート!D$22=\"\",\"\",入力シート!D$22)","v":""},{"$f":"IF(入力シート!F$22=\"\",\"\",入力シート!F$22)","v":""},{"$f":"IF(入力シート!D$23=\"\",\"\",入力シート!D$23)","v":""},{"$f":"IF(入力シート!F$23=\"\",\"\",入力シート!F$23)","v":""},{"$f":"IF(入力シート!D$24=\"\",\"\",入力シート!D$24)","v":""},{"$f":"IF(入力シート!F$24=\"\",\"\",入力シート!F$24)","v":""}]
[null,"No.","選　手　名","学年",null,"No.","選　手　名","学年",null,1,{"$f":"IF(入力シート!$D16=\"\",\"\",入力シート!$D16)","v":""},{"$f":"IF(入力シート!$F16=\"\",\"\",入力シート!$F16)","v":""},null,1,{"$f":"IF(入力シート!$K16=\"\",\"\",入力シート!$K16)","v":""},{"$f":"IF(入力シート!$M16=\"\",\"\",入力シート!$M16)","v":""}]
[null,1,{"$f":"IF(入力シート!$E$16=\"\",\"\",入力シート!$E$16)","v":""},{"$f":"IF(入力シート!$F$16=\"\",\"\",入力シート!$F$16)","v":""},null,1,{"$f":"IF(入力シート!$L$16=\"\",\"\",入力シート!$L$16)","v":""},{"$f":"IF(入力シート!$M$16=\"\",\"\",入力シート!$M$16)","v":""},null,2,{"$f":"IF(入力シート!$D17=\"\",\"\",入力シート!$D17)","v":""},{"$f":"IF(入力シート!$F17=\"\",\"\",入力シート!$F17)","v":""},null,2,{"$f":"IF(入力シート!$K17=\"\",\"\",入力シート!$K17)","v":""},{"$f":"IF(入力シート!$M17=\"\",\"\",入力シート!$M17)","v":""},null,"女子","学校名","監督名","第 １ 区",null,"第 ２ 区",null,"第 ３ 区",null,"第 ４ 区",null,"第 ５ 区",null,"補欠"]
[null,null,{"$f":"IF(入力シート!$D$16=\"\",\"\",入力シート!$D$16)","v":""},null,null,null,{"$f":"IF(入力シート!$K$16=\"\",\"\",入力シート!$K$16)","v":""},null,null,3,{"$f":"IF(入力シート!$D18=\"\",\"\",入力シート!$D18)","v":""},{"$f":"IF(入力シート!$F18=\"\",\"\",入力シート!$F18)","v":""},null,3,{"$f":"IF(入力シート!$K18=\"\",\"\",入力シート!$K18)","v":""},{"$f":"IF(入力シート!$M18=\"\",\"\",入力シート!$M18)","v":""},null,null,null,null,"( 3.0 km )",null,"( 2.0 km )",null,"( 2.0 km )",null,"( 2.0 km )",null,"( 3.0 km )"]
[null,2,{"$f":"IF(入力シート!$E$17=\"\",\"\",入力シート!$E$17)","v":""},{"$f":"IF(入力シート!$F$17=\"\",\"\",入力シート!$F$17)","v":""},null,2,{"$f":"IF(入力シート!$L$17=\"\",\"\",入力シート!$L$17)","v":""},{"$f":"IF(入力シート!$M$17=\"\",\"\",入力シート!$M$17)","v":""},null,4,{"$f":"IF(入力シート!$D19=\"\",\"\",入力シート!$D19)","v":""},{"$f":"IF(入力シート!$F19=\"\",\"\",入力シート!$F19)","v":""},null,4,{"$f":"IF(入力シート!$K19=\"\",\"\",入力シート!$K19)","v":""},{"$f":"IF(入力シート!$M19=\"\",\"\",入力シート!$M19)","v":""},null,null,{"$f":"IF(入力シート!L$8=\"\",\"\",入力シート!L$8)","v":""},{"$f":"IF(入力シート!K$11=\"\",\"\",入力シート!K$11)","v":""},{"$f":"IF(入力シート!K$16=\"\",\"\",入力シート!K$16)","v":""},{"$f":"IF(入力シート!M$16=\"\",\"\",入力シート!M$16)","v":""},{"$f":"IF(入力シート!K$17=\"\",\"\",入力シート!K$17)","v":""},{"$f":"IF(入力シート!M$17=\"\",\"\",入力シート!M$17)","v":""},{"$f":"IF(入力シート!K$18=\"\",\"\",入力シート!K$18)","v":""},{"$f":"IF(入力シート!M$18=\"\",\"\",入力シート!M$18)","v":""},{"$f":"IF(入力シート!K$19=\"\",\"\",入力シート!K$19)","v":""},{"$f":"IF(入力シート!M$19=\"\",\"\",入力シート!M$19)","v":""},{"$f":"IF(入力シート!K$20=\"\",\"\",入力シート!K$20)","v":""},{"$f":"IF(入力シート!M$20=\"\",\"\",入力シート!M$20)","v":""},{"$f":"IF(入力シート!K$21=\"\",\"\",入力シート!K$21)","v":""},{"$f":"IF(入力シート!M$21=\"\",\"\",入力シート!M$21)","v":""},{"$f":"IF(入力シート!K$22=\"\",\"\",入力シート!K$22)","v":""},{"$f":"IF(入力シート!M$22=\"\",\"\",入力シート!M$22)","v":""},{"$f":"IF(入力シート!K$23=\"\",\"\",入力シート!K$23)","v":""},{"$f":"IF(入力シート!M$23=\"\",\"\",入力シート!M$23)","v":""}]
[null,null,{"$f":"IF(入力シート!$D$17=\"\",\"\",入力シート!$D$17)","v":""},null,null,null,{"$f":"IF(入力シート!$K$17=\"\",\"\",入力シート!$K$17)","v":""},null,null,5,{"$f":"IF(入力シート!$D20=\"\",\"\",入力シート!$D20)","v":""},{"$f":"IF(入力シート!$F20=\"\",\"\",入力シート!$F20)","v":""},null,5,{"$f":"IF(入力シート!$K20=\"\",\"\",入力シート!$K20)","v":""},{"$f":"IF(入力シート!$M20=\"\",\"\",入力シート!$M20)","v":""}]
[null,3,{"$f":"IF(入力シート!$E$18=\"\",\"\",入力シート!$E$18)","v":""},{"$f":"IF(入力シート!$F$18=\"\",\"\",入力シート!$F$18)","v":""},null,3,{"$f":"IF(入力シート!$L$18=\"\",\"\",入力シート!$L$18)","v":""},{"$f":"IF(入力シート!$M$18=\"\",\"\",入力シート!$M$18)","v":""},null,6,{"$f":"IF(入力シート!$D21=\"\",\"\",入力シート!$D21)","v":""},{"$f":"IF(入力シート!$F21=\"\",\"\",入力シート!$F21)","v":""},null,"補欠",{"$f":"IF(入力シート!$K21=\"\",\"\",入力シート!$K21)","v":""},{"$f":"IF(入力シート!$M21=\"\",\"\",入力シート!$M21)","v":""}]
[null,null,{"$f":"IF(入力シート!$D$18=\"\",\"\",入力シート!$D$18)","v":""},null,null,null,{"$f":"IF(入力シート!$K$18=\"\",\"\",入力シート!$K$18)","v":""},null,null,"補欠",{"$f":"IF(入力シート!$D22=\"\",\"\",入力シート!$D22)","v":""},{"$f":"IF(入力シート!$F22=\"\",\"\",入力シート!$F22)","v":""},null,"補欠",{"$f":"IF(入力シート!$K22=\"\",\"\",入力シート!$K22)","v":""},{"$f":"IF(入力シート!$M22=\"\",\"\",入力シート!$M22)","v":""}]
[null,4,{"$f":"IF(入力シート!$E$19=\"\",\"\",入力シート!$E$19)","v":""},{"$f":"IF(入力シート!$F$19=\"\",\"\",入力シート!$F$19)","v":""},null,4,{"$f":"IF(入力シート!$L$19=\"\",\"\",入力シート!$L$19)","v":""},{"$f":"IF(入力シート!$M$19=\"\",\"\",入力シート!$M$19)","v":""},null,"補欠",{"$f":"IF(入力シート!$D23=\"\",\"\",入力シート!$D23)","v":""},{"$f":"IF(入力シート!$F23=\"\",\"\",入力シート!$F23)","v":""},null,"補欠",{"$f":"IF(入力シート!$K23=\"\",\"\",入力シート!$K23)","v":""},{"$f":"IF(入力シート!$M23=\"\",\"\",入力シート!$M23)","v":""}]
[null,null,{"$f":"IF(入力シート!$D$19=\"\",\"\",入力シート!$D$19)","v":""},null,null,null,{"$f":"IF(入力シート!$K$19=\"\",\"\",入力シート!$K$19)","v":""},null,null,"補欠",{"$f":"IF(入力シート!$D24=\"\",\"\",入力シート!$D24)","v":""},{"$f":"IF(入力シート!$F24=\"\",\"\",入力シート!$F24)","v":""}]
[null,5,{"$f":"IF(入力シート!$E$20=\"\",\"\",入力シート!$E$20)","v":""},{"$f":"IF(入力シート!$F$20=\"\",\"\",入力シート!$F$20)","v":""},null,5,{"$f":"IF(入力シート!$L$20=\"\",\"\",入力シート!$L$20)","v":""},{"$f":"IF(入力シート!$M$20=\"\",\"\",入力シート!$M$20)","v":""}]
[null,null,{"$f":"IF(入力シート!$D$20=\"\",\"\",入力シート!$D$20)","v":""},null,null,null,{"$f":"IF(入力シート!$K$20=\"\",\"\",入力シート!$K$20)","v":""}]
[null,6,{"$f":"IF(入力シート!$E$21=\"\",\"\",入力シート!$E$21)","v":""},{"$f":"IF(入力シート!$F$21=\"\",\"\",入力シート!$F$21)","v":""},null,6,{"$f":"IF(入力シート!$L$21=\"\",\"\",入力シート!$L$21)","v":""},{"$f":"IF(入力シート!$M$21=\"\",\"\",入力シート!$M$21)","v":""}]
[null,null,{"$f":"IF(入力シート!$D$21=\"\",\"\",入力シート!$D$21)","v":""},null,null,null,{"$f":"IF(入力シート!$K$21=\"\",\"\",入力シート!$K$21)","v":""}]
[null,7,{"$f":"IF(入力シート!$E$22=\"\",\"\",入力シート!$E$22)","v":""},{"$f":"IF(入力シート!$F$22=\"\",\"\",入力シート!$F$22)","v":""},null,7,{"$f":"IF(入力シート!$L$22=\"\",\"\",入力シート!$L$22)","v":""},{"$f":"IF(入力シート!$M$22=\"\",\"\",入力シート!$M$22)","v":""}]
[null,null,{"$f":"IF(入力シート!$D$22=\"\",\"\",入力シート!$D$22)","v":""},null,null,null,{"$f":"IF(入力シート!$K$22=\"\",\"\",入力シート!$K$22)","v":""}]
[null,8,{"$f":"IF(入力シート!$E$23=\"\",\"\",入力シート!$E$23)","v":""},{"$f":"IF(入力シート!$F$23=\"\",\"\",入力シート!$F$23)","v":""},null,8,{"$f":"IF(入力シート!$L$23=\"\",\"\",入力シート!$L$23)","v":""},{"$f":"IF(入力シート!$M$23=\"\",\"\",入力シート!$M$23)","v":""}]
[null,null,{"$f":"IF(入力シート!$D$23=\"\",\"\",入力シート!$D$23)","v":""},null,null,null,{"$f":"IF(入力シート!$K$23=\"\",\"\",入力シート!$K$23)","v":""}]
[null,9,{"$f":"IF(入力シート!$E$24=\"\",\"\",入力シート!$E$24)","v":""},{"$f":"IF(入力シート!$F$24=\"\",\"\",入力シート!$F$24)","v":""},null,9,{"$f":"IF(入力シート!$L$24=\"\",\"\",入力シート!$L$24)","v":""},{"$f":"IF(入力シート!$M$24=\"\",\"\",入力シート!$M$24)","v":""}]
[null,null,{"$f":"IF(入力シート!$D$24=\"\",\"\",入力シート!$D$24)","v":""},null,null,null,{"$f":"IF(入力シート!$K$24=\"\",\"\",入力シート!$K$24)","v":""}]